BEGIN:VCALENDAR
VERSION:2.0
PRODID:-//ChamberMaster//Event Calendar 2.0//EN
METHOD:PUBLISH
X-PUBLISHED-TTL:P3D
REFRESH-INTERVAL:P3D
CALSCALE:GREGORIAN
BEGIN:VEVENT
DTSTART:20230621T140000Z
DTEND:20230621T180000Z
X-MICROSOFT-CDO-ALLDAYEVENT:FALSE
SUMMARY:Weenie Wagon Wednesday
DESCRIPTION:FREE HOT DOG LUNCH! Join Us for Walk-In Wednesday On the Spot Interviews & Immediate Job Offers for Qualified Candidates We have multiple job opportunities at local employers of choice. All Shifts Available. Starting pay based on position.
X-ALT-DESC;FMTTYPE=text/html:FREE HOT DOG LUNCH! Join Us for Walk-In Wednesday On the Spot Interviews &amp\; Immediate Job Offers for Qualified Candidates We have multiple job opportunities at local employers of choice. All Shifts Available. Starting pay based on position.
LOCATION:Pro Resources Staffing Services 1921 E 53rd Street Anderson\, IN 46013
UID:e.1371.18288
SEQUENCE:3
DTSTAMP:20260423T021901Z
URL:http://business.madisoncountyalliance.org/events/details/weenie-wagon-wednesday-18288
END:VEVENT

END:VCALENDAR
