BEGIN:VCALENDAR
VERSION:2.0
PRODID:-//ChamberMaster//Event Calendar 2.0//EN
METHOD:PUBLISH
X-PUBLISHED-TTL:P3D
REFRESH-INTERVAL:P3D
CALSCALE:GREGORIAN
BEGIN:VEVENT
DTSTART:20250908T130000Z
DTEND:20250908T140000Z
X-MICROSOFT-CDO-ALLDAYEVENT:FALSE
SUMMARY:White River Club silver Splash Group Exercise
DESCRIPTION:Silver Splash in our pool offers fun\, shallow-water movement to improve agility and flexibility while addressing cardiovascular health\, strength\, balance and endurance. No swimming ability is required. Kickboards or other aquatic equipment is provided
X-ALT-DESC;FMTTYPE=text/html:Silver Splash in our pool offers fun\, shallow-water movement to improve agility and flexibility while addressing cardiovascular health\, strength\, balance and endurance. No swimming ability is required. Kickboards or other aquatic equipment is provided
LOCATION:http://whiteriverclub.com/group-exercise
UID:e.1371.9437
SEQUENCE:3
DTSTAMP:20260421T112147Z
URL:http://business.madisoncountyalliance.org/events/details/white-river-club-silver-splash-group-exercise-09-08-2025-9437
END:VEVENT

END:VCALENDAR
