BEGIN:VCALENDAR
VERSION:2.0
PRODID:-//ChamberMaster//Event Calendar 2.0//EN
METHOD:PUBLISH
X-PUBLISHED-TTL:P3D
REFRESH-INTERVAL:P3D
CALSCALE:GREGORIAN
BEGIN:VEVENT
DTSTART:20240810T200000Z
DTEND:20240811T000000Z
X-MICROSOFT-CDO-ALLDAYEVENT:FALSE
SUMMARY:White River Food Truck Festival
DESCRIPTION:White River Food Truck Festival\n\nSaturday\, August 10th \n\n4:00 - 8:00 p.m.\n\nBlue Bridge Park\, Corner of 9th & Central\, Anderson\n\n\n\nFREE EVENT\n\nLive Music / DJ / Food Trucks / Bounce Houses\n\nBring your lawn chair
X-ALT-DESC;FMTTYPE=text/html:White River Food Truck Festival<br />\nSaturday\, August 10th&nbsp\;<br />\n4:00 - 8:00 p.m.<br />\nBlue Bridge Park\, Corner of 9th &amp\; Central\, Anderson<br />\n<br />\nFREE EVENT<br />\nLive Music / DJ / Food Trucks / Bounce Houses<br />\nBring your lawn chair&nbsp\;<br />\n<br />\n&nbsp\;
LOCATION:Blue Bridge Park Corner of 9th & Central Anderson\, IN
UID:e.1371.18872
SEQUENCE:3
DTSTAMP:20260422T055456Z
URL:http://business.madisoncountyalliance.org/events/details/white-river-food-truck-festival-18872
END:VEVENT

END:VCALENDAR
