BEGIN:VCALENDAR
VERSION:2.0
PRODID:-//ChamberMaster//Event Calendar 2.0//EN
METHOD:PUBLISH
X-PUBLISHED-TTL:P3D
REFRESH-INTERVAL:P3D
CALSCALE:GREGORIAN
BEGIN:VEVENT
DTSTART:20241206T220000Z
DTEND:20241207T010000Z
X-MICROSOFT-CDO-ALLDAYEVENT:FALSE
SUMMARY:Winterfest for First Friday at AMOA
DESCRIPTION:Join us for Winterfest\, AMOA's celebration of First Friday\, on December 6 from 5 to 8 p.m.! This festive day is filled with activities for all ages: ???? Hues of Happiness: Be among the first to see our new Hues of Happiness exhibition\, showcasing works from AMOA's permanent collection in honor of the beloved community member Marilyn Ault. The vibrant art celebrates color and joy\, running throughout December. ?? Soroptimist International of Anderson Cookie Walk: Don't miss the Soroptimist Cookie Walk\, where you can pick up an assortment of homemade cookies for just $8 per dozen. Proceeds support women's educational awards in Madison County\, a great cause this holiday season. ?? A.R.T.S. (A Reason to Shop): Our local marketplace is back! Find unique gifts from local vendors at A.R.T.S. (A Reason to Shop) and visit the AMOA Shop for locally made art and crafts\, perfect for holiday gifting. ?? Winterfest Fun: Enjoy complimentary refreshments\, kids' crafts\, and special guests from Detour Salon & Style\, who will add sparkle to your holiday season with winter hair tinsel.
X-ALT-DESC;FMTTYPE=text/html:Join us for Winterfest\, AMOA&rsquo\;s celebration of First Friday\, on December 6 from 5 to 8 p.m.! This festive day is filled with activities for all ages: ???? Hues of Happiness: Be among the first to see our new Hues of Happiness exhibition\, showcasing works from AMOA&rsquo\;s permanent collection in honor of the beloved community member Marilyn Ault. The vibrant art celebrates color and joy\, running throughout December. ?? Soroptimist International of Anderson Cookie Walk: Don&rsquo\;t miss the Soroptimist Cookie Walk\, where you can pick up an assortment of homemade cookies for just $8 per dozen. Proceeds support women&rsquo\;s educational awards in Madison County\, a great cause this holiday season. ?? A.R.T.S. (A Reason to Shop): Our local marketplace is back! Find unique gifts from local vendors at A.R.T.S. (A Reason to Shop) and visit the AMOA Shop for locally made art and crafts\, perfect for holiday gifting. ?? Winterfest Fun: Enjoy complimentary refreshments\, kids&rsquo\; crafts\, and special guests from Detour Salon &amp\; Style\, who will add sparkle to your holiday season with winter hair tinsel.
LOCATION:Anderson Museum of Art 32 Hst W 10th St\, Anderson\, IN 46016
UID:e.1371.18948
SEQUENCE:3
DTSTAMP:20260422T002312Z
URL:http://business.madisoncountyalliance.org/events/details/winterfest-for-first-friday-at-amoa-18948
END:VEVENT

END:VCALENDAR
