BEGIN:VCALENDAR
VERSION:2.0
PRODID:-//ChamberMaster//Event Calendar 2.0//EN
METHOD:PUBLISH
X-PUBLISHED-TTL:P3D
REFRESH-INTERVAL:P3D
CALSCALE:GREGORIAN
BEGIN:VEVENT
DTSTART:20260515T140000Z
DTEND:20260516T180000Z
X-MICROSOFT-CDO-ALLDAYEVENT:FALSE
SUMMARY:Redbud Quilt Guild Show
DESCRIPTION:The Redbud Quilt Guild will present their biennial quilt show "Celebrate!" at the Anderson Museum of Art (32 W. 10th Street\, Anderson\, IN) on May 15-16\, 2026. Hours are 10a-5p Friday and 10a-2p Saturday. Admission: $5 Show will include a display of quilts made by members\, presentations of Quilts of Valor to military veterans (Sat)\, a bazaar featuring handmade goods and quilting supplies/fabrics\, and a quilt raffle to support the guild's charitable projects (Sat).
X-ALT-DESC;FMTTYPE=text/html:The Redbud Quilt Guild will present their biennial quilt show &ldquo\;Celebrate!&rdquo\; at the Anderson Museum of Art (32 W. 10th Street\, Anderson\, IN) on May 15-16\, 2026. Hours are 10a-5p Friday and 10a-2p Saturday. Admission: $5 Show will include a display of quilts made by members\, presentations of Quilts of Valor to military veterans (Sat)\, a bazaar featuring handmade goods and quilting supplies/fabrics\, and a quilt raffle to support the guild&rsquo\;s charitable projects (Sat).
LOCATION:Anderson Museum of Art 32 W. 10th Street Anderson\, IN 46016
UID:e.1371.19174
SEQUENCE:3
DTSTAMP:20260424T014458Z
URL:https://business.madisoncountyalliance.org/events/details/redbud-quilt-guild-show-19174
END:VEVENT

END:VCALENDAR
