BEGIN:VCALENDAR
VERSION:2.0
PRODID:-//ChamberMaster//Event Calendar 2.0//EN
METHOD:PUBLISH
X-PUBLISHED-TTL:P3D
REFRESH-INTERVAL:P3D
CALSCALE:GREGORIAN
BEGIN:VEVENT
DTSTART:20250625T123000Z
DTEND:20250625T133000Z
X-MICROSOFT-CDO-ALLDAYEVENT:FALSE
SUMMARY:White River Fitness Club/Walking Hour
DESCRIPTION:Walk with Megan\, our NASM certified Trainer\, and get guidance to improve your balance\, endurance and cardio health\, while enjoying a weather influenced free walk!
X-ALT-DESC;FMTTYPE=text/html:Walk with Megan\, our NASM certified Trainer\, and get guidance to improve your balance\, endurance and cardio health\, while enjoying a weather influenced free walk!
LOCATION:1545 S. Scatterfield Rd. Anderson\, IN 46016
UID:e.1371.10602
SEQUENCE:3
DTSTAMP:20260421T044521Z
URL:https://business.madisoncountyalliance.org/events/details/white-river-fitness-club-walking-hour-06-25-2025-10602
END:VEVENT

END:VCALENDAR
